BEGIN:VCALENDAR
VERSION:2.0
PRODID:-//Tim G. Music - ECPv6.15.17.1//NONSGML v1.0//EN
CALSCALE:GREGORIAN
METHOD:PUBLISH
X-ORIGINAL-URL:https://timgmusic.com
X-WR-CALDESC:Events for Tim G. Music
REFRESH-INTERVAL;VALUE=DURATION:PT1H
X-Robots-Tag:noindex
X-PUBLISHED-TTL:PT1H
BEGIN:VTIMEZONE
TZID:America/Los_Angeles
BEGIN:DAYLIGHT
TZOFFSETFROM:-0800
TZOFFSETTO:-0700
TZNAME:PDT
DTSTART:20240310T100000
END:DAYLIGHT
BEGIN:STANDARD
TZOFFSETFROM:-0700
TZOFFSETTO:-0800
TZNAME:PST
DTSTART:20241103T090000
END:STANDARD
BEGIN:DAYLIGHT
TZOFFSETFROM:-0800
TZOFFSETTO:-0700
TZNAME:PDT
DTSTART:20250309T100000
END:DAYLIGHT
BEGIN:STANDARD
TZOFFSETFROM:-0700
TZOFFSETTO:-0800
TZNAME:PST
DTSTART:20251102T090000
END:STANDARD
BEGIN:DAYLIGHT
TZOFFSETFROM:-0800
TZOFFSETTO:-0700
TZNAME:PDT
DTSTART:20260308T100000
END:DAYLIGHT
BEGIN:STANDARD
TZOFFSETFROM:-0700
TZOFFSETTO:-0800
TZNAME:PST
DTSTART:20261101T090000
END:STANDARD
END:VTIMEZONE
BEGIN:VEVENT
DTSTART;TZID=America/Los_Angeles:20250626T173000
DTEND;TZID=America/Los_Angeles:20250626T203000
DTSTAMP:20260419T071657
CREATED:20250428T211545Z
LAST-MODIFIED:20250626T164500Z
UID:5115-1750959000-1750969800@timgmusic.com
SUMMARY:Priest Lake Brewery
DESCRIPTION:Live Music Outside with TimG
URL:https://timgmusic.com/event/priest-lake-brewery/
LOCATION:Priest Lake Brewing\, 28392 ID-57\, Priest Lake\, ID\, 83856\, United States
ATTACH;FMTTYPE=image/jpeg:https://timgmusic.com/wp-content/uploads/2025/04/timg-music-priest-lake-brewing.jpg
END:VEVENT
BEGIN:VEVENT
DTSTART;TZID=America/Los_Angeles:20250621T180000
DTEND;TZID=America/Los_Angeles:20250621T210000
DTSTAMP:20260419T071657
CREATED:20250428T211930Z
LAST-MODIFIED:20250429T004940Z
UID:5121-1750528800-1750539600@timgmusic.com
SUMMARY:Millie's
DESCRIPTION:TimG Music
URL:https://timgmusic.com/event/millies/
LOCATION:Millie’s\, 28441 ID-57\, Priest Lake\, ID\, 83856\, United States
ATTACH;FMTTYPE=image/jpeg:https://timgmusic.com/wp-content/uploads/2025/04/timg-music-millies-priest-lake.jpg
END:VEVENT
BEGIN:VEVENT
DTSTART;TZID=America/Los_Angeles:20250620T180000
DTEND;TZID=America/Los_Angeles:20250620T200000
DTSTAMP:20260419T071657
CREATED:20250428T212145Z
LAST-MODIFIED:20250429T004957Z
UID:5125-1750442400-1750449600@timgmusic.com
SUMMARY:Big Barn Brewing
DESCRIPTION:
URL:https://timgmusic.com/event/big-barn-brewing/
LOCATION:Big Barn Brewing Company\, 16004 N Applewood Ln\, Mead\, WA\, 99021\, United States
ATTACH;FMTTYPE=image/jpeg:https://timgmusic.com/wp-content/uploads/2025/04/timg-music-big-barn-brewing.jpg
END:VEVENT
BEGIN:VEVENT
DTSTART;TZID=America/Los_Angeles:20250603T190000
DTEND;TZID=America/Los_Angeles:20250603T210000
DTSTAMP:20260419T071657
CREATED:20250428T210626Z
LAST-MODIFIED:20250428T210626Z
UID:5101-1748977200-1748984400@timgmusic.com
SUMMARY:The Rocket Market
DESCRIPTION:The Rocket Market Summer Outdoor Concert Series \nLive Music with TimG Music
URL:https://timgmusic.com/event/the-rocket-market/
LOCATION:The Rocket Market\, 726 E 43rd Ave\, Spokane\, WA\, 99203\, United States
ATTACH;FMTTYPE=image/png:https://timgmusic.com/wp-content/uploads/2024/04/Screenshot-2024-04-14-at-12.36.02-PM.png
END:VEVENT
BEGIN:VEVENT
DTSTART;TZID=America/Los_Angeles:20250523T183000
DTEND;TZID=America/Los_Angeles:20250523T213000
DTSTAMP:20260419T071657
CREATED:20250522T141432Z
LAST-MODIFIED:20250522T142835Z
UID:5268-1748025000-1748035800@timgmusic.com
SUMMARY:MEMORIAL DAY WEEKEND KICKOFF - FRIDAY NIGHT
DESCRIPTION:KICKING OFF MEMORIAL DAY WEEKEND\n MICK DUFF’S BREW HALL
URL:https://timgmusic.com/event/memorial-day-weekend-kickoff-friday-night/
LOCATION:Mick Duff’s Brew Hall\, 220 Cedar St\, Sandpoint Idaho\, 83864\, United States
ATTACH;FMTTYPE=image/png:https://timgmusic.com/wp-content/uploads/2023/11/mickduffslogo.png
END:VEVENT
BEGIN:VEVENT
DTSTART;TZID=America/Los_Angeles:20250502T180000
DTEND;TZID=America/Los_Angeles:20250502T200000
DTSTAMP:20260419T071657
CREATED:20250428T205144Z
LAST-MODIFIED:20250428T205227Z
UID:5085-1746208800-1746216000@timgmusic.com
SUMMARY:Pybus Public Market
DESCRIPTION:TimG Live
URL:https://timgmusic.com/event/pybus-public-market/
LOCATION:Pybus Public Market\, 3 N. Worthen St.\, Wenatchee\, WA\, 98801\, United States
ATTACH;FMTTYPE=image/png:https://timgmusic.com/wp-content/uploads/2024/04/pybuslogo.png
END:VEVENT
END:VCALENDAR