BEGIN:VCALENDAR
VERSION:2.0
PRODID:-//Tim G. Music - ECPv6.15.17.1//NONSGML v1.0//EN
CALSCALE:GREGORIAN
METHOD:PUBLISH
X-ORIGINAL-URL:https://timgmusic.com
X-WR-CALDESC:Events for Tim G. Music
REFRESH-INTERVAL;VALUE=DURATION:PT1H
X-Robots-Tag:noindex
X-PUBLISHED-TTL:PT1H
BEGIN:VTIMEZONE
TZID:America/Los_Angeles
BEGIN:DAYLIGHT
TZOFFSETFROM:-0800
TZOFFSETTO:-0700
TZNAME:PDT
DTSTART:20240310T100000
END:DAYLIGHT
BEGIN:STANDARD
TZOFFSETFROM:-0700
TZOFFSETTO:-0800
TZNAME:PST
DTSTART:20241103T090000
END:STANDARD
BEGIN:DAYLIGHT
TZOFFSETFROM:-0800
TZOFFSETTO:-0700
TZNAME:PDT
DTSTART:20250309T100000
END:DAYLIGHT
BEGIN:STANDARD
TZOFFSETFROM:-0700
TZOFFSETTO:-0800
TZNAME:PST
DTSTART:20251102T090000
END:STANDARD
BEGIN:DAYLIGHT
TZOFFSETFROM:-0800
TZOFFSETTO:-0700
TZNAME:PDT
DTSTART:20260308T100000
END:DAYLIGHT
BEGIN:STANDARD
TZOFFSETFROM:-0700
TZOFFSETTO:-0800
TZNAME:PST
DTSTART:20261101T090000
END:STANDARD
END:VTIMEZONE
BEGIN:VEVENT
DTSTART;TZID=America/Los_Angeles:20251003T160000
DTEND;TZID=America/Los_Angeles:20251003T200000
DTSTAMP:20260421T052419
CREATED:20250822T045435Z
LAST-MODIFIED:20250822T050019Z
UID:5373-1759507200-1759521600@timgmusic.com
SUMMARY:The Scale House Market at the Quarry
DESCRIPTION:Friday night Live Music starting at 4 PM
URL:https://timgmusic.com/event/the-scale-house-market-at-the-quarry-2/
LOCATION:The scale house market\, 4422 East 8th\, Spokane Valley\, WA\, 99212
ATTACH;FMTTYPE=image/png:https://timgmusic.com/wp-content/uploads/2025/08/Screenshot-2025-08-21-at-9.05.51-PM.png
END:VEVENT
BEGIN:VEVENT
DTSTART;TZID=America/Los_Angeles:20251025T173000
DTEND;TZID=America/Los_Angeles:20251025T193000
DTSTAMP:20260421T052419
CREATED:20251017T025820Z
LAST-MODIFIED:20251024T160114Z
UID:5385-1761413400-1761420600@timgmusic.com
SUMMARY:Millie's Priest Lake
DESCRIPTION:STARTING AT 5:30 PM
URL:https://timgmusic.com/event/millies-priest-lake-3/
LOCATION:Millie’s\, 28441 ID-57\, Priest Lake\, ID\, 83856\, United States
ATTACH;FMTTYPE=image/jpeg:https://timgmusic.com/wp-content/uploads/2025/04/timg-music-millies-priest-lake.jpg
END:VEVENT
END:VCALENDAR